BEGIN:VCALENDAR
VERSION:2.0
PRODID:-//ChamberMaster//Event Calendar 2.0//EN
METHOD:PUBLISH
X-PUBLISHED-TTL:P3D
REFRESH-INTERVAL:P3D
CALSCALE:GREGORIAN
BEGIN:VEVENT
DTSTART:20260409T120000Z
DTEND:20260409T130000Z
X-MICROSOFT-CDO-ALLDAYEVENT:FALSE
SUMMARY:Coffee Connection at The Hive Workspace and Business Center
DESCRIPTION:Join us for a relaxed Coffee Connection at The Hive Workspace and Business Center - a modern collaborative co-working community in downtown Salem that brings professionals\, entrepreneurs\, and creative thinkers together in a welcoming environment. The Hive offers a mix of private offices and shared spaces with amenities like high-speed Wi-Fi\, meeting rooms\, and a fully stocked kitchenette with bottomless coffee and tea\, making it a perfect setting to network\, share ideas\, and build connections. \n\n\nCoffee Connections are designed to foster networking opportunities between local business leaders and provide ample time for discussions. They are a great way to reconnect with old acquaintances and build new ones. \n\n\n\nRegistration required. Free for members and first-time attendees / $20 for non-members. Not a member but looking to attend your first event? Email amanda@salem-chamber.org
X-ALT-DESC;FMTTYPE=text/html:<p>Join us for a relaxed Coffee Connection at The Hive Workspace and Business Center -&nbsp\;a modern collaborative co-working community in downtown Salem that brings professionals\, entrepreneurs\, and creative thinkers together in a welcoming environment. The Hive offers a mix of private offices and shared spaces with amenities like high-speed Wi-Fi\, meeting rooms\, and a fully stocked kitchenette with bottomless coffee and tea\, making it a perfect setting to network\, share ideas\, and build connections.&nbsp\;</p>\n\n<div data-block="true" data-editor="el8vl" data-offset-key="9tc9r-0-0">\n<div data-offset-key="9tc9r-0-0">Coffee Connections are designed to foster networking opportunities between local business leaders and provide ample time for discussions. They are a great way to reconnect with old acquaintances and build new ones.&nbsp\;<br />\n<br />\nRegistration required.&nbsp\;Free for members and first-time attendees / $20 for non-members. Not a member but looking to attend your first event? Email <a href="mailto:amanda@salem-chamber.org">amanda@salem-chamber.org</a></div>\n</div>\n
LOCATION:The Hive Workspace and Business Center 227 Washington Street Salem\, MA 01970
UID:e.2160.24963
SEQUENCE:3
DTSTAMP:20260423T125923Z
URL:https://www.salem-chamber.org/events/details/coffee-connection-at-the-hive-workspace-and-business-center-24963
END:VEVENT

END:VCALENDAR
